BEGIN:VCALENDAR
VERSION:2.0
PRODID:-//Contratero//ES
CALSCALE:GREGORIAN
METHOD:PUBLISH
BEGIN:VEVENT
UID:6586/2025@contratero.es
DTSTAMP:20260422T032842Z
DTSTART:20250611T235959
DTEND:20250612T005959
SUMMARY:Cierre: suministro consistente en la cesión del derecho de
DESCRIPTION:suministro consistente en la cesión del derecho de uso de la Licencia Citrix ADC VPX/BLX Software (Fixed Model) Advanced 1 Gbps\\n\\nOrganismo: Concejal de Área de Turismo\, Promoción Cultural\, Fiestas\, Mercado\, Desarrollo Tecnológico Y Organismo Autónomo Local del Ayuntamiento de Puerto de la Cruz\\n\\nVer en Contratero: https://contratero.es/contracts/6586/2025
URL:https://contratero.es/contracts/6586/2025
STATUS:CONFIRMED
BEGIN:VALARM
TRIGGER:-P1D
ACTION:DISPLAY
DESCRIPTION:Recordatorio: suministro consistente en la c
END:VALARM
END:VEVENT
END:VCALENDAR