BEGIN:VCALENDAR
VERSION:2.0
PRODID:-//Contratero//ES
CALSCALE:GREGORIAN
METHOD:PUBLISH
BEGIN:VEVENT
UID:664/25@contratero.es
DTSTAMP:20260420T140306Z
DTSTART:20251226T235959
DTEND:20251227T005959
SUMMARY:Cierre: Soporte técnico del antivirus corporativo de Diput
DESCRIPTION:Soporte técnico del antivirus corporativo de Diputación de Badajoz\\n\\nOrganismo: Presidencia de la Diputación de Badajoz\\n\\nVer en Contratero: https://contratero.es/contracts/664/25
URL:https://contratero.es/contracts/664/25
STATUS:CONFIRMED
BEGIN:VALARM
TRIGGER:-P1D
ACTION:DISPLAY
DESCRIPTION:Recordatorio: Soporte técnico del antivirus 
END:VALARM
END:VEVENT
END:VCALENDAR