BEGIN:VCALENDAR
VERSION:2.0
PRODID:-//Contratero//ES
CALSCALE:GREGORIAN
METHOD:PUBLISH
BEGIN:VEVENT
UID:665/25@contratero.es
DTSTAMP:20260426T022413Z
DTSTART:20251218T235959
DTEND:20251219T005959
SUMMARY:Cierre: Desarrollo de Sistema de Gestión para el Área Func
DESCRIPTION:Desarrollo de Sistema de Gestión para el Área Funcional de Infraestructuras\, Movilidad y Ordenación del Territorio\\n\\nOrganismo: Presidencia de la Diputación de Badajoz\\n\\nVer en Contratero: https://contratero.es/contracts/665/25
URL:https://contratero.es/contracts/665/25
STATUS:CONFIRMED
BEGIN:VALARM
TRIGGER:-P1D
ACTION:DISPLAY
DESCRIPTION:Recordatorio: Desarrollo de Sistema de Gesti
END:VALARM
END:VEVENT
END:VCALENDAR