BEGIN:VCALENDAR
VERSION:2.0
PRODID:-//Contratero//ES
CALSCALE:GREGORIAN
METHOD:PUBLISH
BEGIN:VEVENT
UID:6670/2025@contratero.es
DTSTAMP:20260423T165643Z
DTSTART:20251120T235959
DTEND:20251121T005959
SUMMARY:Cierre: Suministro Software REDHAT para la Diputación Prov
DESCRIPTION:Suministro Software REDHAT para la Diputación Provincial de Castellón (Contrato basado SDA 25/2022 del Estado. Lote 2)\\n\\nOrganismo: Presidencia de la Diputación Provincial de Castellón\\n\\nVer en Contratero: https://contratero.es/contracts/6670/2025
URL:https://contratero.es/contracts/6670/2025
STATUS:CONFIRMED
BEGIN:VALARM
TRIGGER:-P1D
ACTION:DISPLAY
DESCRIPTION:Recordatorio: Suministro Software REDHAT par
END:VALARM
END:VEVENT
END:VCALENDAR