BEGIN:VCALENDAR
VERSION:2.0
PRODID:-//Contratero//ES
CALSCALE:GREGORIAN
METHOD:PUBLISH
BEGIN:VEVENT
UID:67/2016@contratero.es
DTSTAMP:20260425T122530Z
DTSTART:20170103T235959
DTEND:20170104T005959
SUMMARY:Cierre: implantación del sistema de información clínico-as
DESCRIPTION:implantación del sistema de información clínico-asistencial orion clinic (oc) en hospitales de agudos de la conselleris de sandiad universal y salud pública.\\n\\nOrganismo: Dirección General de Recursos Humanos y Económicos de la Consellería de Sanidad y Salud Pública\\n\\nVer en Contratero: https://contratero.es/contracts/67/2016
URL:https://contratero.es/contracts/67/2016
STATUS:CONFIRMED
BEGIN:VALARM
TRIGGER:-P1D
ACTION:DISPLAY
DESCRIPTION:Recordatorio: implantación del sistema de in
END:VALARM
END:VEVENT
END:VCALENDAR