BEGIN:VCALENDAR
VERSION:2.0
PRODID:-//Contratero//ES
CALSCALE:GREGORIAN
METHOD:PUBLISH
BEGIN:VEVENT
UID:67/2024/P15003@contratero.es
DTSTAMP:20260425T150001Z
DTSTART:20251014T235959
DTEND:20251015T005959
SUMMARY:Cierre: Servicios de mantenimiento de la aplicación inform
DESCRIPTION:Servicios de mantenimiento de la aplicación informática Sistema de Información Tributario SIT.\\n\\nOrganismo: Alcaldía del Ayuntamiento de Segovia\\n\\nVer en Contratero: https://contratero.es/contracts/67/2024/P15003
URL:https://contratero.es/contracts/67/2024/P15003
STATUS:CONFIRMED
BEGIN:VALARM
TRIGGER:-P1D
ACTION:DISPLAY
DESCRIPTION:Recordatorio: Servicios de mantenimiento de 
END:VALARM
END:VEVENT
END:VCALENDAR