BEGIN:VCALENDAR
VERSION:2.0
PRODID:-//Contratero//ES
CALSCALE:GREGORIAN
METHOD:PUBLISH
BEGIN:VEVENT
UID:67/2025@contratero.es
DTSTAMP:20260421T171422Z
DTSTART:20250606T235959
DTEND:20250607T005959
SUMMARY:Cierre: Suministros y servicios para la implantación de un
DESCRIPTION:Suministros y servicios para la implantación de una solución integral de Planificación de Recursos Empresariales (ERP) en modalidad SaaS que modernice la gestión administrativa\, financiera y operativa...\\n\\nOrganismo: Presidencia de la Cámara Oficial de Comercio\, Industria\, Servicios y Navegación de Santa Cruz de Tenerife\\n\\nVer en Contratero: https://contratero.es/contracts/67/2025
URL:https://contratero.es/contracts/67/2025
STATUS:CONFIRMED
BEGIN:VALARM
TRIGGER:-P1D
ACTION:DISPLAY
DESCRIPTION:Recordatorio: Suministros y servicios para l
END:VALARM
END:VEVENT
END:VCALENDAR