BEGIN:VCALENDAR
VERSION:2.0
PRODID:-//Contratero//ES
CALSCALE:GREGORIAN
METHOD:PUBLISH
BEGIN:VEVENT
UID:681/2025@contratero.es
DTSTAMP:20260419T223604Z
DTSTART:20250729T235959
DTEND:20250730T005959
SUMMARY:Cierre: Adjudicación de aprovechamientos forestales del Mo
DESCRIPTION:Adjudicación de aprovechamientos forestales del Monte de Utilidad Pública nº66 "Demanda y Agregados" de Ezcaray del año 2025 por subasta- aprovechamiento forestal referencia 1036/2025\\n\\nOrganismo: Alcaldía del Ayuntamiento de Ezcaray\\n\\nVer en Contratero: https://contratero.es/contracts/681/2025
URL:https://contratero.es/contracts/681/2025
STATUS:CONFIRMED
BEGIN:VALARM
TRIGGER:-P1D
ACTION:DISPLAY
DESCRIPTION:Recordatorio: Adjudicación de aprovechamient
END:VALARM
END:VEVENT
END:VCALENDAR