BEGIN:VCALENDAR
VERSION:2.0
PRODID:-//Contratero//ES
CALSCALE:GREGORIAN
METHOD:PUBLISH
BEGIN:VEVENT
UID:681/24@contratero.es
DTSTAMP:20260424T144915Z
DTSTART:20250102T235959
DTEND:20250103T005959
SUMMARY:Cierre: Mantenimiento estándar Epsilon RH para 2025 más 24
DESCRIPTION:Mantenimiento estándar Epsilon RH para 2025 más 24 horas anuales de contrato de soporte especializado telemático\\n\\nOrganismo: Presidencia de la Diputación de Badajoz\\n\\nVer en Contratero: https://contratero.es/contracts/681/24
URL:https://contratero.es/contracts/681/24
STATUS:CONFIRMED
BEGIN:VALARM
TRIGGER:-P1D
ACTION:DISPLAY
DESCRIPTION:Recordatorio: Mantenimiento estándar Epsilon
END:VALARM
END:VEVENT
END:VCALENDAR