BEGIN:VCALENDAR
VERSION:2.0
PRODID:-//Contratero//ES
CALSCALE:GREGORIAN
METHOD:PUBLISH
BEGIN:VEVENT
UID:6821/2025@contratero.es
DTSTAMP:20260422T070914Z
DTSTART:20251210T235959
DTEND:20251211T005959
SUMMARY:Cierre: Servicio de Implantación\, formación y mantenimient
DESCRIPTION:Servicio de Implantación\, formación y mantenimiento de soporte técnico para la Aplicación Epsilon del Grupo Castilla para el Área de Recursos Humanos del Ayuntamiento de Lepe\, detallados como sigue:\n...\\n\\nOrganismo: Junta de Gobierno del Ayuntamiento de Lepe\\n\\nVer en Contratero: https://contratero.es/contracts/6821/2025
URL:https://contratero.es/contracts/6821/2025
STATUS:CONFIRMED
BEGIN:VALARM
TRIGGER:-P1D
ACTION:DISPLAY
DESCRIPTION:Recordatorio: Servicio de Implantación\, form
END:VALARM
END:VEVENT
END:VCALENDAR