BEGIN:VCALENDAR
VERSION:2.0
PRODID:-//Contratero//ES
CALSCALE:GREGORIAN
METHOD:PUBLISH
BEGIN:VEVENT
UID:686/2024@contratero.es
DTSTAMP:20260425T205841Z
DTSTART:20240618T235959
DTEND:20240619T005959
SUMMARY:Cierre: Proyecto de gestión del flujo de mercancías.
DESCRIPTION:Proyecto de gestión del flujo de mercancías.\\n\\nOrganismo: Autoridad Portuaria de Avilés\\n\\nVer en Contratero: https://contratero.es/contracts/686/2024
URL:https://contratero.es/contracts/686/2024
STATUS:CONFIRMED
BEGIN:VALARM
TRIGGER:-P1D
ACTION:DISPLAY
DESCRIPTION:Recordatorio: Proyecto de gestión del flujo 
END:VALARM
END:VEVENT
END:VCALENDAR