BEGIN:VCALENDAR
VERSION:2.0
PRODID:-//Contratero//ES
CALSCALE:GREGORIAN
METHOD:PUBLISH
BEGIN:VEVENT
UID:6861/2023@contratero.es
DTSTAMP:20260422T071158Z
DTSTART:20231127T235959
DTEND:20231128T005959
SUMMARY:Cierre: Servicios Cloud de Azure para el Ayuntamiento de A
DESCRIPTION:Servicios Cloud de Azure para el Ayuntamiento de Alcalá la Real\, incluido en el programa de subvenciones destinadas a la transformación digital y modernización de las Administraciones de las Entidades...\\n\\nOrganismo: Alcaldia del Ayuntamiento de Alcalá la Real\\n\\nVer en Contratero: https://contratero.es/contracts/6861/2023
URL:https://contratero.es/contracts/6861/2023
STATUS:CONFIRMED
BEGIN:VALARM
TRIGGER:-P1D
ACTION:DISPLAY
DESCRIPTION:Recordatorio: Servicios Cloud de Azure para 
END:VALARM
END:VEVENT
END:VCALENDAR