BEGIN:VCALENDAR
VERSION:2.0
PRODID:-//Contratero//ES
CALSCALE:GREGORIAN
METHOD:PUBLISH
BEGIN:VEVENT
UID:6867/2025@contratero.es
DTSTAMP:20260421T234240Z
DTSTART:20250528T235959
DTEND:20250529T005959
SUMMARY:Cierre: Contrato de asistencia técnica para incorporación 
DESCRIPTION:Contrato de asistencia técnica para incorporación del canon DMA en los recibos de agua en la aplicación ESTIMA\\n\\nOrganismo: Alcaldía del Ayuntamiento de Azuqueca de Henares\\n\\nVer en Contratero: https://contratero.es/contracts/6867/2025
URL:https://contratero.es/contracts/6867/2025
STATUS:CONFIRMED
BEGIN:VALARM
TRIGGER:-P1D
ACTION:DISPLAY
DESCRIPTION:Recordatorio: Contrato de asistencia técnica
END:VALARM
END:VEVENT
END:VCALENDAR