BEGIN:VCALENDAR
VERSION:2.0
PRODID:-//Contratero//ES
CALSCALE:GREGORIAN
METHOD:PUBLISH
BEGIN:VEVENT
UID:6907/2022@contratero.es
DTSTAMP:20260422T094337Z
DTSTART:20231030T235959
DTEND:20231031T005959
SUMMARY:Cierre: Servicios infraestructura y  aplicaciones informát
DESCRIPTION:Servicios infraestructura y  aplicaciones informáticas soporte áreas intervención\, tesorería y subvenciones del Ayuntamiento y su organismo autónomo. Estrategia Desarrollo Urbano Sostenible FEDER\\n\\nOrganismo: Alcaldía del Ayuntamiento de Águilas\\n\\nVer en Contratero: https://contratero.es/contracts/6907/2022
URL:https://contratero.es/contracts/6907/2022
STATUS:CONFIRMED
BEGIN:VALARM
TRIGGER:-P1D
ACTION:DISPLAY
DESCRIPTION:Recordatorio: Servicios infraestructura y  a
END:VALARM
END:VEVENT
END:VCALENDAR