BEGIN:VCALENDAR
VERSION:2.0
PRODID:-//Contratero//ES
CALSCALE:GREGORIAN
METHOD:PUBLISH
BEGIN:VEVENT
UID:695/24@contratero.es
DTSTAMP:20260420T185332Z
DTSTART:20250324T235959
DTEND:20250325T005959
SUMMARY:Cierre: Consultoría y asistencia técnica en la gestión y o
DESCRIPTION:Consultoría y asistencia técnica en la gestión y optimización de la facturación eléctrica mediante software para municipios de la provincia de de Badajoz\\n\\nOrganismo: Presidencia de la Diputación de Badajoz\\n\\nVer en Contratero: https://contratero.es/contracts/695/24
URL:https://contratero.es/contracts/695/24
STATUS:CONFIRMED
BEGIN:VALARM
TRIGGER:-P1D
ACTION:DISPLAY
DESCRIPTION:Recordatorio: Consultoría y asistencia técni
END:VALARM
END:VEVENT
END:VCALENDAR