BEGIN:VCALENDAR
VERSION:2.0
PRODID:-//Contratero//ES
CALSCALE:GREGORIAN
METHOD:PUBLISH
BEGIN:VEVENT
UID:6968/2023@contratero.es
DTSTAMP:20260422T130639Z
DTSTART:20230809T235959
DTEND:20230810T005959
SUMMARY:Cierre: Implantación y mantenimiento de un software para l
DESCRIPTION:Implantación y mantenimiento de un software para la generación y gestión de video-actas y servicios de grabación y retransmisión\, en streaming\, de los plenos municipales.\\n\\nOrganismo: Alcaldía del Ayuntamiento de Xàtiva\\n\\nVer en Contratero: https://contratero.es/contracts/6968/2023
URL:https://contratero.es/contracts/6968/2023
STATUS:CONFIRMED
BEGIN:VALARM
TRIGGER:-P1D
ACTION:DISPLAY
DESCRIPTION:Recordatorio: Implantación y mantenimiento d
END:VALARM
END:VEVENT
END:VCALENDAR