BEGIN:VCALENDAR
VERSION:2.0
PRODID:-//Contratero//ES
CALSCALE:GREGORIAN
METHOD:PUBLISH
BEGIN:VEVENT
UID:7/2020@contratero.es
DTSTAMP:20260419T192437Z
DTSTART:20200925T235959
DTEND:20200926T005959
SUMMARY:Cierre: Servicio de telefonía fija y móvil y datos e inter
DESCRIPTION:Servicio de telefonía fija y móvil y datos e internet\\n\\nOrganismo: Alcaldía del Ayuntamiento de Álora\\n\\nVer en Contratero: https://contratero.es/contracts/7/2020
URL:https://contratero.es/contracts/7/2020
STATUS:CONFIRMED
BEGIN:VALARM
TRIGGER:-P1D
ACTION:DISPLAY
DESCRIPTION:Recordatorio: Servicio de telefonía fija y m
END:VALARM
END:VEVENT
END:VCALENDAR