BEGIN:VCALENDAR
VERSION:2.0
PRODID:-//Contratero//ES
CALSCALE:GREGORIAN
METHOD:PUBLISH
BEGIN:VEVENT
UID:7/2024@contratero.es
DTSTAMP:20260423T080833Z
DTSTART:20240927T235959
DTEND:20240928T005959
SUMMARY:Cierre: Contratación de la migración de ginpix7 a entorno 
DESCRIPTION:Contratación de la migración de ginpix7 a entorno savia cloud y servicios saas para el Parlamento de las Illes Balears\, desarrollado por soluciones avanzadas en informática aplicada\, sl (savia)\\n\\nOrganismo: Parlament de les Illes Balears\\n\\nVer en Contratero: https://contratero.es/contracts/7/2024
URL:https://contratero.es/contracts/7/2024
STATUS:CONFIRMED
BEGIN:VALARM
TRIGGER:-P1D
ACTION:DISPLAY
DESCRIPTION:Recordatorio: Contratación de la migración d
END:VALARM
END:VEVENT
END:VCALENDAR