BEGIN:VCALENDAR
VERSION:2.0
PRODID:-//Contratero//ES
CALSCALE:GREGORIAN
METHOD:PUBLISH
BEGIN:VEVENT
UID:70/24-C@contratero.es
DTSTAMP:20260421T071829Z
DTSTART:20240903T235959
DTEND:20240904T005959
SUMMARY:Cierre: Contratación de los servicios necesarios para impl
DESCRIPTION:Contratación de los servicios necesarios para implantar los diferentes sistemas integrados de la administración electrónica en el Ayuntamiento de Las Palmas de Gran Canaria\, el Instituto Municipal de ...\\n\\nOrganismo: Junta de Gobierno del Ayuntamiento de Las Palmas de Gran Canaria\\n\\nVer en Contratero: https://contratero.es/contracts/70/24-C
URL:https://contratero.es/contracts/70/24-C
STATUS:CONFIRMED
BEGIN:VALARM
TRIGGER:-P1D
ACTION:DISPLAY
DESCRIPTION:Recordatorio: Contratación de los servicios 
END:VALARM
END:VEVENT
END:VCALENDAR