BEGIN:VCALENDAR
VERSION:2.0
PRODID:-//Contratero//ES
CALSCALE:GREGORIAN
METHOD:PUBLISH
BEGIN:VEVENT
UID:7093/2023@contratero.es
DTSTAMP:20260419T215551Z
DTSTART:20240809T235959
DTEND:20240810T005959
SUMMARY:Cierre: Contrato de servicios para la creación\, puesta en 
DESCRIPTION:Contrato de servicios para la creación\, puesta en marcha y evolución de un Portal Web para el Área de Participación Ciudadana del Ayuntamiento de Atarfe\\n\\nOrganismo: Alcaldía del Ayuntamiento de Atarfe\\n\\nVer en Contratero: https://contratero.es/contracts/7093/2023
URL:https://contratero.es/contracts/7093/2023
STATUS:CONFIRMED
BEGIN:VALARM
TRIGGER:-P1D
ACTION:DISPLAY
DESCRIPTION:Recordatorio: Contrato de servicios para la 
END:VALARM
END:VEVENT
END:VCALENDAR