BEGIN:VCALENDAR
VERSION:2.0
PRODID:-//Contratero//ES
CALSCALE:GREGORIAN
METHOD:PUBLISH
BEGIN:VEVENT
UID:70946/2023@contratero.es
DTSTAMP:20260423T145556Z
DTSTART:20241011T235959
DTEND:20241012T005959
SUMMARY:Cierre: Suministro\, implantación y despliegue del nuevo si
DESCRIPTION:Suministro\, implantación y despliegue del nuevo sistema de gestión integral de activos y movilidad para ACEMSA\\n\\nOrganismo: Órgano de Contratación de la Ciudad Autónoma de Ceuta\\n\\nVer en Contratero: https://contratero.es/contracts/70946/2023
URL:https://contratero.es/contracts/70946/2023
STATUS:CONFIRMED
BEGIN:VALARM
TRIGGER:-P1D
ACTION:DISPLAY
DESCRIPTION:Recordatorio: Suministro\, implantación y des
END:VALARM
END:VEVENT
END:VCALENDAR