BEGIN:VCALENDAR
VERSION:2.0
PRODID:-//Contratero//ES
CALSCALE:GREGORIAN
METHOD:PUBLISH
BEGIN:VEVENT
UID:72/20.1@contratero.es
DTSTAMP:20260424T031114Z
DTSTART:20220524T235959
DTEND:20220525T005959
SUMMARY:Cierre: PRÓRROGA. Servicio de mantenimiento y asistencia t
DESCRIPTION:PRÓRROGA. Servicio de mantenimiento y asistencia técnica de la aplicación de gestión de la oficina del consumidor de San Sebastián de los Reyes\\n\\nOrganismo: Junta de Gobierno del Ayuntamiento de San Sebastián de los Reyes\\n\\nVer en Contratero: https://contratero.es/contracts/72/20.1
URL:https://contratero.es/contracts/72/20.1
STATUS:CONFIRMED
BEGIN:VALARM
TRIGGER:-P1D
ACTION:DISPLAY
DESCRIPTION:Recordatorio: PRÓRROGA. Servicio de mantenim
END:VALARM
END:VEVENT
END:VCALENDAR