BEGIN:VCALENDAR
VERSION:2.0
PRODID:-//Contratero//ES
CALSCALE:GREGORIAN
METHOD:PUBLISH
BEGIN:VEVENT
UID:72/2025.0-SIS@contratero.es
DTSTAMP:20260421T174706Z
DTSTART:20251128T235959
DTEND:20251129T005959
SUMMARY:Cierre: Contratación de licencias Software multifabricante
DESCRIPTION:Contratación de licencias Software multifabricante\\n\\nOrganismo: Autoridad Portuaria de Cartagena\\n\\nVer en Contratero: https://contratero.es/contracts/72/2025.0-SIS
URL:https://contratero.es/contracts/72/2025.0-SIS
STATUS:CONFIRMED
BEGIN:VALARM
TRIGGER:-P1D
ACTION:DISPLAY
DESCRIPTION:Recordatorio: Contratación de licencias Soft
END:VALARM
END:VEVENT
END:VCALENDAR