BEGIN:VCALENDAR
VERSION:2.0
PRODID:-//Contratero//ES
CALSCALE:GREGORIAN
METHOD:PUBLISH
BEGIN:VEVENT
UID:73/20@contratero.es
DTSTAMP:20260425T012803Z
DTSTART:20210104T235959
DTEND:20210105T005959
SUMMARY:Cierre: Cto. de servicio para el mantenimiento\, diseño\, as
DESCRIPTION:Cto. de servicio para el mantenimiento\, diseño\, asesoramiento\, desarrollo y asistencia técnica de las páginas webs del Ayuntamiento de\, para las anualidades 2020\,2021\,2022 y 2023\\n\\nOrganismo: Alcaldía del Ayuntamiento de Los Barrios (Cádiz)\\n\\nVer en Contratero: https://contratero.es/contracts/73/20
URL:https://contratero.es/contracts/73/20
STATUS:CONFIRMED
BEGIN:VALARM
TRIGGER:-P1D
ACTION:DISPLAY
DESCRIPTION:Recordatorio: Cto. de servicio para el mante
END:VALARM
END:VEVENT
END:VCALENDAR