BEGIN:VCALENDAR
VERSION:2.0
PRODID:-//Contratero//ES
CALSCALE:GREGORIAN
METHOD:PUBLISH
BEGIN:VEVENT
UID:752/2023@contratero.es
DTSTAMP:20260422T205855Z
DTSTART:20240206T235959
DTEND:20240207T005959
SUMMARY:Cierre: Servicios de evolución\, mantenimiento y soporte de
DESCRIPTION:Servicios de evolución\, mantenimiento y soporte de aplicaciones móviles de la Conselleria de sanidad\\n\\nOrganismo: Dirección General de Gestión Económica\, Contratación e Infraestructuras de la Conselleria de Sanidad\\n\\nVer en Contratero: https://contratero.es/contracts/752/2023
URL:https://contratero.es/contracts/752/2023
STATUS:CONFIRMED
BEGIN:VALARM
TRIGGER:-P1D
ACTION:DISPLAY
DESCRIPTION:Recordatorio: Servicios de evolución\, manten
END:VALARM
END:VEVENT
END:VCALENDAR