BEGIN:VCALENDAR
VERSION:2.0
PRODID:-//Contratero//ES
CALSCALE:GREGORIAN
METHOD:PUBLISH
BEGIN:VEVENT
UID:76/2026@contratero.es
DTSTAMP:20260420T090242Z
DTSTART:20251231T235959
DTEND:20260101T005959
SUMMARY:Cierre: Adquisición de las licencias y su soporte asociado
DESCRIPTION:Adquisición de las licencias y su soporte asociado para cubrir las necesidades de licenciamiento de tecnología VMWare by Broadcom o equivalente de la Conselleria de Sanitat\\n\\nOrganismo: Dirección General de Gestión Económica\, Contratación e Infraestructuras de la Conselleria de Sanidad\\n\\nVer en Contratero: https://contratero.es/contracts/76/2026
URL:https://contratero.es/contracts/76/2026
STATUS:CONFIRMED
BEGIN:VALARM
TRIGGER:-P1D
ACTION:DISPLAY
DESCRIPTION:Recordatorio: Adquisición de las licencias y
END:VALARM
END:VEVENT
END:VCALENDAR