BEGIN:VCALENDAR
VERSION:2.0
PRODID:-//Contratero//ES
CALSCALE:GREGORIAN
METHOD:PUBLISH
BEGIN:VEVENT
UID:7622/2017@contratero.es
DTSTAMP:20260420T070908Z
DTSTART:20200603T235959
DTEND:20200604T005959
SUMMARY:Cierre: Servicios de Internet para el Ayuntamiento de Almo
DESCRIPTION:Servicios de Internet para el Ayuntamiento de Almoradí\\n\\nOrganismo: Junta de Gobierno del Ayuntamiento de Almoradí\\n\\nVer en Contratero: https://contratero.es/contracts/7622/2017
URL:https://contratero.es/contracts/7622/2017
STATUS:CONFIRMED
BEGIN:VALARM
TRIGGER:-P1D
ACTION:DISPLAY
DESCRIPTION:Recordatorio: Servicios de Internet para el 
END:VALARM
END:VEVENT
END:VCALENDAR