BEGIN:VCALENDAR
VERSION:2.0
PRODID:-//Contratero//ES
CALSCALE:GREGORIAN
METHOD:PUBLISH
BEGIN:VEVENT
UID:766/2025@contratero.es
DTSTAMP:20260420T123400Z
DTSTART:20250618T235959
DTEND:20250619T005959
SUMMARY:Cierre: Servicio de acceso a internet en edificios e insta
DESCRIPTION:Servicio de acceso a internet en edificios e instalaciones del ayuntamiento de Béjar.\\n\\nOrganismo: Alcaldía del Ayuntamiento de Béjar\\n\\nVer en Contratero: https://contratero.es/contracts/766/2025
URL:https://contratero.es/contracts/766/2025
STATUS:CONFIRMED
BEGIN:VALARM
TRIGGER:-P1D
ACTION:DISPLAY
DESCRIPTION:Recordatorio: Servicio de acceso a internet 
END:VALARM
END:VEVENT
END:VCALENDAR