BEGIN:VCALENDAR
VERSION:2.0
PRODID:-//Contratero//ES
CALSCALE:GREGORIAN
METHOD:PUBLISH
BEGIN:VEVENT
UID:77/19@contratero.es
DTSTAMP:20260424T212633Z
DTSTART:20191104T235959
DTEND:20191105T005959
SUMMARY:Cierre: Servicios de mantenimiento y soporte técnico y de 
DESCRIPTION:Servicios de mantenimiento y soporte técnico y de consultoría de productos ORACLE con destino a la Intervención General de la Administración del Estado\\n\\nOrganismo: Junta de Contratación de los Servicios Centrales en el Ministerio de Hacienda\\n\\nVer en Contratero: https://contratero.es/contracts/77/19
URL:https://contratero.es/contracts/77/19
STATUS:CONFIRMED
BEGIN:VALARM
TRIGGER:-P1D
ACTION:DISPLAY
DESCRIPTION:Recordatorio: Servicios de mantenimiento y s
END:VALARM
END:VEVENT
END:VCALENDAR