BEGIN:VCALENDAR
VERSION:2.0
PRODID:-//Contratero//ES
CALSCALE:GREGORIAN
METHOD:PUBLISH
BEGIN:VEVENT
UID:77/2018@contratero.es
DTSTAMP:20260424T174900Z
DTSTART:20181108T235959
DTEND:20181109T005959
SUMMARY:Cierre: Servicios de telefonía\, tanto fija como móvil\, tra
DESCRIPTION:Servicios de telefonía\, tanto fija como móvil\, transmisión de datos en movilidad y acceso a Internet del Ayuntamiento de Granada.\\n\\nOrganismo: Junta de Gobierno del Ayuntamiento de Granada\\n\\nVer en Contratero: https://contratero.es/contracts/77/2018
URL:https://contratero.es/contracts/77/2018
STATUS:CONFIRMED
BEGIN:VALARM
TRIGGER:-P1D
ACTION:DISPLAY
DESCRIPTION:Recordatorio: Servicios de telefonía\, tanto 
END:VALARM
END:VEVENT
END:VCALENDAR