BEGIN:VCALENDAR
VERSION:2.0
PRODID:-//Contratero//ES
CALSCALE:GREGORIAN
METHOD:PUBLISH
BEGIN:VEVENT
UID:7788/2024@contratero.es
DTSTAMP:20260420T113815Z
DTSTART:20250312T235959
DTEND:20250313T005959
SUMMARY:Cierre: Servicio de mantenimiento evolutivo de la Aplicaci
DESCRIPTION:Servicio de mantenimiento evolutivo de la Aplicación móvil turística de la concejalía de Turismo del Ayuntamiento de Teulada\\n\\nOrganismo: Junta de Gobierno del Ayuntamiento de Teulada\\n\\nVer en Contratero: https://contratero.es/contracts/7788/2024
URL:https://contratero.es/contracts/7788/2024
STATUS:CONFIRMED
BEGIN:VALARM
TRIGGER:-P1D
ACTION:DISPLAY
DESCRIPTION:Recordatorio: Servicio de mantenimiento evol
END:VALARM
END:VEVENT
END:VCALENDAR