BEGIN:VCALENDAR
VERSION:2.0
PRODID:-//Contratero//ES
CALSCALE:GREGORIAN
METHOD:PUBLISH
BEGIN:VEVENT
UID:78/2025@contratero.es
DTSTAMP:20260424T205902Z
DTSTART:20251215T235959
DTEND:20251216T005959
SUMMARY:Cierre: licitacion contraro arrendamiento de titularidad m
DESCRIPTION:licitacion contraro arrendamiento de titularidad municipal Calle Medio 2 2º derecha BEZAS\\n\\nOrganismo: Alcaldía del Ayuntamiento de Bezas\\n\\nVer en Contratero: https://contratero.es/contracts/78/2025
URL:https://contratero.es/contracts/78/2025
STATUS:CONFIRMED
BEGIN:VALARM
TRIGGER:-P1D
ACTION:DISPLAY
DESCRIPTION:Recordatorio: licitacion contraro arrendamie
END:VALARM
END:VEVENT
END:VCALENDAR