BEGIN:VCALENDAR
VERSION:2.0
PRODID:-//Contratero//ES
CALSCALE:GREGORIAN
METHOD:PUBLISH
BEGIN:VEVENT
UID:781/2020@contratero.es
DTSTAMP:20260425T205745Z
DTSTART:20201106T235959
DTEND:20201107T005959
SUMMARY:Cierre: Conexión a internet de los edificios municipales y
DESCRIPTION:Conexión a internet de los edificios municipales y otros\\n\\nOrganismo: Alcaldía del Ayuntamiento de Albaida\\n\\nVer en Contratero: https://contratero.es/contracts/781/2020
URL:https://contratero.es/contracts/781/2020
STATUS:CONFIRMED
BEGIN:VALARM
TRIGGER:-P1D
ACTION:DISPLAY
DESCRIPTION:Recordatorio: Conexión a internet de los edi
END:VALARM
END:VEVENT
END:VCALENDAR