BEGIN:VCALENDAR
VERSION:2.0
PRODID:-//Contratero//ES
CALSCALE:GREGORIAN
METHOD:PUBLISH
BEGIN:VEVENT
UID:784/2024@contratero.es
DTSTAMP:20260422T152011Z
DTSTART:20251217T235959
DTEND:20251218T005959
SUMMARY:Cierre: Servicio Integral de Nóminas y Recursos Humanos de
DESCRIPTION:Servicio Integral de Nóminas y Recursos Humanos del M.I. Ayuntamiento de Valverde\\n\\nOrganismo: Alcaldía del Ayuntamiento de Valverde\\n\\nVer en Contratero: https://contratero.es/contracts/784/2024
URL:https://contratero.es/contracts/784/2024
STATUS:CONFIRMED
BEGIN:VALARM
TRIGGER:-P1D
ACTION:DISPLAY
DESCRIPTION:Recordatorio: Servicio Integral de Nóminas y
END:VALARM
END:VEVENT
END:VCALENDAR