BEGIN:VCALENDAR
VERSION:2.0
PRODID:-//Contratero//ES
CALSCALE:GREGORIAN
METHOD:PUBLISH
BEGIN:VEVENT
UID:79/2023@contratero.es
DTSTAMP:20260422T231240Z
DTSTART:20230515T235959
DTEND:20230516T005959
SUMMARY:Cierre: Suministro APs y servicio WIFI.
DESCRIPTION:Suministro APs y servicio WIFI.\\n\\nOrganismo: Autoridad Portuaria de Avilés\\n\\nVer en Contratero: https://contratero.es/contracts/79/2023
URL:https://contratero.es/contracts/79/2023
STATUS:CONFIRMED
BEGIN:VALARM
TRIGGER:-P1D
ACTION:DISPLAY
DESCRIPTION:Recordatorio: Suministro APs y servicio WIFI
END:VALARM
END:VEVENT
END:VCALENDAR