BEGIN:VCALENDAR
VERSION:2.0
PRODID:-//Contratero//ES
CALSCALE:GREGORIAN
METHOD:PUBLISH
BEGIN:VEVENT
UID:8/2018@contratero.es
DTSTAMP:20260425T225930Z
DTSTART:20190301T235959
DTEND:20190302T005959
SUMMARY:Cierre: Enajenación del inmuebles de naturaleza rústica
DESCRIPTION:Enajenación del inmuebles de naturaleza rústica\\n\\nOrganismo: Pleno del Ayuntamiento de La Zarza de Pumareda\\n\\nVer en Contratero: https://contratero.es/contracts/8/2018
URL:https://contratero.es/contracts/8/2018
STATUS:CONFIRMED
BEGIN:VALARM
TRIGGER:-P1D
ACTION:DISPLAY
DESCRIPTION:Recordatorio: Enajenación del inmuebles de n
END:VALARM
END:VEVENT
END:VCALENDAR