BEGIN:VCALENDAR
VERSION:2.0
PRODID:-//Contratero//ES
CALSCALE:GREGORIAN
METHOD:PUBLISH
BEGIN:VEVENT
UID:8/2025@contratero.es
DTSTAMP:20260419T135224Z
DTSTART:20260317T235959
DTEND:20260318T005959
SUMMARY:Cierre: Servicio de gestión integral de emisión y venta de
DESCRIPTION:Servicio de gestión integral de emisión y venta de entradas a través de internet de los museos Casa de Colón y Cueva Pintada\\n\\nOrganismo: Presidencia de Valora Gestión Tributaria\\n\\nVer en Contratero: https://contratero.es/contracts/8/2025
URL:https://contratero.es/contracts/8/2025
STATUS:CONFIRMED
BEGIN:VALARM
TRIGGER:-P1D
ACTION:DISPLAY
DESCRIPTION:Recordatorio: Servicio de gestión integral d
END:VALARM
END:VEVENT
END:VCALENDAR