BEGIN:VCALENDAR
VERSION:2.0
PRODID:-//Contratero//ES
CALSCALE:GREGORIAN
METHOD:PUBLISH
BEGIN:VEVENT
UID:80/2024@contratero.es
DTSTAMP:20260420T082044Z
DTSTART:20241125T235959
DTEND:20241126T005959
SUMMARY:Cierre: Asistencia técnica al consejo social de la ciudad 
DESCRIPTION:Asistencia técnica al consejo social de la ciudad de lorca 2025-2027\\n\\nOrganismo: Junta de Gobierno Local del Ayuntamiento de Lorca\\n\\nVer en Contratero: https://contratero.es/contracts/80/2024
URL:https://contratero.es/contracts/80/2024
STATUS:CONFIRMED
BEGIN:VALARM
TRIGGER:-P1D
ACTION:DISPLAY
DESCRIPTION:Recordatorio: Asistencia técnica al consejo 
END:VALARM
END:VEVENT
END:VCALENDAR