BEGIN:VCALENDAR
VERSION:2.0
PRODID:-//Contratero//ES
CALSCALE:GREGORIAN
METHOD:PUBLISH
BEGIN:VEVENT
UID:8004330008-2021-0016992@contratero.es
DTSTAMP:20260422T154307Z
DTSTART:20211125T235959
DTEND:20211126T005959
SUMMARY:Cierre: Subscripció llicències de IBM Domino
DESCRIPTION:Subscripció llicències de IBM Domino\\n\\nOrganismo: President de la Diputació de Tarragona\\n\\nVer en Contratero: https://contratero.es/contracts/8004330008-2021-0016992
URL:https://contratero.es/contracts/8004330008-2021-0016992
STATUS:CONFIRMED
BEGIN:VALARM
TRIGGER:-P1D
ACTION:DISPLAY
DESCRIPTION:Recordatorio: Subscripció llicències de IBM 
END:VALARM
END:VEVENT
END:VCALENDAR