BEGIN:VCALENDAR
VERSION:2.0
PRODID:-//Contratero//ES
CALSCALE:GREGORIAN
METHOD:PUBLISH
BEGIN:VEVENT
UID:809/2019@contratero.es
DTSTAMP:20260422T130312Z
DTSTART:20200114T235959
DTEND:20200115T005959
SUMMARY:Cierre: Contrato administrativo de servicios de seguridad 
DESCRIPTION:Contrato administrativo de servicios de seguridad y protección antivirus para los equipos informáticos\, servidores de ficheros y móviles del Ayuntamiento de Muro de Alcoy\\n\\nOrganismo: Alcaldia del Ayuntamiento de Muro de Alcoy\\n\\nVer en Contratero: https://contratero.es/contracts/809/2019
URL:https://contratero.es/contracts/809/2019
STATUS:CONFIRMED
BEGIN:VALARM
TRIGGER:-P1D
ACTION:DISPLAY
DESCRIPTION:Recordatorio: Contrato administrativo de ser
END:VALARM
END:VEVENT
END:VCALENDAR