BEGIN:VCALENDAR
VERSION:2.0
PRODID:-//Contratero//ES
CALSCALE:GREGORIAN
METHOD:PUBLISH
BEGIN:VEVENT
UID:81P/25@contratero.es
DTSTAMP:20260419T135147Z
DTSTART:20251212T235959
DTEND:20251213T005959
SUMMARY:Cierre: Renovación de cartera de nombres de dominio de int
DESCRIPTION:Renovación de cartera de nombres de dominio de internet.\\n\\nOrganismo: Presidencia de la Diputación Provincial de Cuenca\\n\\nVer en Contratero: https://contratero.es/contracts/81P/25
URL:https://contratero.es/contracts/81P/25
STATUS:CONFIRMED
BEGIN:VALARM
TRIGGER:-P1D
ACTION:DISPLAY
DESCRIPTION:Recordatorio: Renovación de cartera de nombr
END:VALARM
END:VEVENT
END:VCALENDAR