BEGIN:VCALENDAR
VERSION:2.0
PRODID:-//Contratero//ES
CALSCALE:GREGORIAN
METHOD:PUBLISH
BEGIN:VEVENT
UID:8224/2023@contratero.es
DTSTAMP:20260422T020813Z
DTSTART:20240116T235959
DTEND:20240117T005959
SUMMARY:Cierre: Servicio de mantenimiento de programa informático 
DESCRIPTION:Servicio de mantenimiento de programa informático SYSPOL para Policía Local\\n\\nOrganismo: Junta de Gobierno del Ayuntamiento de Albatera\\n\\nVer en Contratero: https://contratero.es/contracts/8224/2023
URL:https://contratero.es/contracts/8224/2023
STATUS:CONFIRMED
BEGIN:VALARM
TRIGGER:-P1D
ACTION:DISPLAY
DESCRIPTION:Recordatorio: Servicio de mantenimiento de p
END:VALARM
END:VEVENT
END:VCALENDAR