BEGIN:VCALENDAR
VERSION:2.0
PRODID:-//Contratero//ES
CALSCALE:GREGORIAN
METHOD:PUBLISH
BEGIN:VEVENT
UID:824/2025@contratero.es
DTSTAMP:20260419T130100Z
DTSTART:20251028T235959
DTEND:20251029T005959
SUMMARY:Cierre: Monitorización y análisis del consumo de energía e
DESCRIPTION:Monitorización y análisis del consumo de energía eléctrica en los edificios municipales y en el alumbrado público\\n\\nOrganismo: Alcaldía del Ayuntamiento de Estivella\\n\\nVer en Contratero: https://contratero.es/contracts/824/2025
URL:https://contratero.es/contracts/824/2025
STATUS:CONFIRMED
BEGIN:VALARM
TRIGGER:-P1D
ACTION:DISPLAY
DESCRIPTION:Recordatorio: Monitorización y análisis del 
END:VALARM
END:VEVENT
END:VCALENDAR