BEGIN:VCALENDAR
VERSION:2.0
PRODID:-//Contratero//ES
CALSCALE:GREGORIAN
METHOD:PUBLISH
BEGIN:VEVENT
UID:831/2024@contratero.es
DTSTAMP:20260420T032435Z
DTSTART:20240405T235959
DTEND:20240406T005959
SUMMARY:Cierre: Plataforma de gestión del portal de empleo
DESCRIPTION:Plataforma de gestión del portal de empleo\\n\\nOrganismo: Alcaldía del Ayuntamiento de Velilla de San Antonio\\n\\nVer en Contratero: https://contratero.es/contracts/831/2024
URL:https://contratero.es/contracts/831/2024
STATUS:CONFIRMED
BEGIN:VALARM
TRIGGER:-P1D
ACTION:DISPLAY
DESCRIPTION:Recordatorio: Plataforma de gestión del port
END:VALARM
END:VEVENT
END:VCALENDAR