BEGIN:VCALENDAR
VERSION:2.0
PRODID:-//Contratero//ES
CALSCALE:GREGORIAN
METHOD:PUBLISH
BEGIN:VEVENT
UID:832/2024@contratero.es
DTSTAMP:20260424T175057Z
DTSTART:20241216T235959
DTEND:20241217T005959
SUMMARY:Cierre: Servizo mantemento equipos redes de datos web muni
DESCRIPTION:Servizo mantemento equipos redes de datos web municipal e soporte contable\\n\\nOrganismo: Junta de Gobierno Local del Ayuntamiento de Barro\\n\\nVer en Contratero: https://contratero.es/contracts/832/2024
URL:https://contratero.es/contracts/832/2024
STATUS:CONFIRMED
BEGIN:VALARM
TRIGGER:-P1D
ACTION:DISPLAY
DESCRIPTION:Recordatorio: Servizo mantemento equipos red
END:VALARM
END:VEVENT
END:VCALENDAR