BEGIN:VCALENDAR
VERSION:2.0
PRODID:-//Contratero//ES
CALSCALE:GREGORIAN
METHOD:PUBLISH
BEGIN:VEVENT
UID:8408/2025@contratero.es
DTSTAMP:20260422T113438Z
DTSTART:20260123T235959
DTEND:20260124T005959
SUMMARY:Cierre: Suministro de materiales de construcción necesario
DESCRIPTION:Suministro de materiales de construcción necesarios para acometer las obras de Actuaciones de mejora de accesibilidad entorno Calles Herrería\, García Lorca\, Antonio Machado y Camino de Gójar\, acogidos...\\n\\nOrganismo: Junta de Gobierno Local del Ayuntamiento de La Zubia\\n\\nVer en Contratero: https://contratero.es/contracts/8408/2025
URL:https://contratero.es/contracts/8408/2025
STATUS:CONFIRMED
BEGIN:VALARM
TRIGGER:-P1D
ACTION:DISPLAY
DESCRIPTION:Recordatorio: Suministro de materiales de co
END:VALARM
END:VEVENT
END:VCALENDAR