BEGIN:VCALENDAR
VERSION:2.0
PRODID:-//Contratero//ES
CALSCALE:GREGORIAN
METHOD:PUBLISH
BEGIN:VEVENT
UID:846/2024@contratero.es
DTSTAMP:20260425T012919Z
DTSTART:20240726T235959
DTEND:20240727T005959
SUMMARY:Cierre: Contrato de servicio de diseño\, creación y manteni
DESCRIPTION:Contrato de servicio de diseño\, creación y mantenimiento de un nuevo portal web municipal\, servicios de mail\, hospedaje backup para el Ayuntamiento de Ogijares (Granada).\\n\\nOrganismo: Junta de Gobierno Local del Ayuntamiento de Ogíjares\\n\\nVer en Contratero: https://contratero.es/contracts/846/2024
URL:https://contratero.es/contracts/846/2024
STATUS:CONFIRMED
BEGIN:VALARM
TRIGGER:-P1D
ACTION:DISPLAY
DESCRIPTION:Recordatorio: Contrato de servicio de diseño
END:VALARM
END:VEVENT
END:VCALENDAR