BEGIN:VCALENDAR
VERSION:2.0
PRODID:-//Contratero//ES
CALSCALE:GREGORIAN
METHOD:PUBLISH
BEGIN:VEVENT
UID:848/2025@contratero.es
DTSTAMP:20260422T215128Z
DTSTART:20251202T235959
DTEND:20251203T005959
SUMMARY:Cierre: Contrato de servicio mantenimiento de cámaras de v
DESCRIPTION:Contrato de servicio mantenimiento de cámaras de vigilancia.\\n\\nOrganismo: Junta de Gobierno Local del Ayuntamiento de Quer\\n\\nVer en Contratero: https://contratero.es/contracts/848/2025
URL:https://contratero.es/contracts/848/2025
STATUS:CONFIRMED
BEGIN:VALARM
TRIGGER:-P1D
ACTION:DISPLAY
DESCRIPTION:Recordatorio: Contrato de servicio mantenimi
END:VALARM
END:VEVENT
END:VCALENDAR