BEGIN:VCALENDAR
VERSION:2.0
PRODID:-//Contratero//ES
CALSCALE:GREGORIAN
METHOD:PUBLISH
BEGIN:VEVENT
UID:85/2025@contratero.es
DTSTAMP:20260421T020343Z
DTSTART:20251105T235959
DTEND:20251106T005959
SUMMARY:Cierre: Suministro de los derechos de mantenimiento de una
DESCRIPTION:Suministro de los derechos de mantenimiento de una licencia EasyPDF Production Server.\\n\\nOrganismo: Comisión Ejecutiva de la Gerencia de Urbanismo de Sevilla\\n\\nVer en Contratero: https://contratero.es/contracts/85/2025
URL:https://contratero.es/contracts/85/2025
STATUS:CONFIRMED
BEGIN:VALARM
TRIGGER:-P1D
ACTION:DISPLAY
DESCRIPTION:Recordatorio: Suministro de los derechos de 
END:VALARM
END:VEVENT
END:VCALENDAR