BEGIN:VCALENDAR
VERSION:2.0
PRODID:-//Contratero//ES
CALSCALE:GREGORIAN
METHOD:PUBLISH
BEGIN:VEVENT
UID:857/2025@contratero.es
DTSTAMP:20260421T085848Z
DTSTART:20250818T235959
DTEND:20250819T005959
SUMMARY:Cierre: Contratación del mantenimiento de software de lect
DESCRIPTION:Contratación del mantenimiento de software de lectura de matrículas de vehículos\\n\\nOrganismo: Alcaldía del Ayuntamiento de Laguna de Duero\\n\\nVer en Contratero: https://contratero.es/contracts/857/2025
URL:https://contratero.es/contracts/857/2025
STATUS:CONFIRMED
BEGIN:VALARM
TRIGGER:-P1D
ACTION:DISPLAY
DESCRIPTION:Recordatorio: Contratación del mantenimiento
END:VALARM
END:VEVENT
END:VCALENDAR